BEGIN:VCALENDAR
VERSION:2.0
PRODID:-//Tukios.com/
BEGIN:VEVENT
UID:12ce2d55-df0c-4fca-ac3e-9365eaf6d037@www.crosbyfuneralhome.com
DTSTAMP:20260425T015859Z
DTSTART:20260427T180000Z
DTEND:20260427T190000Z
SUMMARY:Graveside Service
DESCRIPTION:
URL:https://www.crosbyfuneralhome.com/obituaries/cindy-stottlemire
LOCATION: 7755 Liberty Church Road  Nicholls GA 31554
GEO:31.3934641;-82.5389807
END:VEVENT
END:VCALENDAR