BEGIN:VCALENDAR
VERSION:2.0
PRODID:-//Tukios.com/
BEGIN:VEVENT
UID:d93c0f55-6a49-4595-9369-2167059ee707@www.crosbyfuneralhome.com
DTSTAMP:20260425T015900Z
DTSTART:20260427T170000Z
DTEND:20260427T180000Z
SUMMARY:Visitation
DESCRIPTION:
URL:https://www.crosbyfuneralhome.com/obituaries/cindy-stottlemire
LOCATION: 7755 Liberty Church Road  Nicholls GA 31554
GEO:31.3934641;-82.5389807
END:VEVENT
END:VCALENDAR