BEGIN:VCALENDAR
VERSION:2.0
PRODID:-//Tukios.com/
BEGIN:VEVENT
UID:288e08a6-da4a-447a-88e0-762a3edc1dcc@www.crosbyfuneralhome.com
DTSTAMP:20260423T235016Z
DTSTART:20260425T140000Z
DTEND:20260425T150000Z
SUMMARY:Visitation
DESCRIPTION:
URL:https://www.crosbyfuneralhome.com/obituaries/jack-turner-2026
LOCATION: 207 W 12th St  Alma GA 31510
GEO:31.5418345;-82.4641463
END:VEVENT
END:VCALENDAR