BEGIN:VCALENDAR
VERSION:2.0
PRODID:-//Tukios.com/
BEGIN:VEVENT
UID:a8f222b7-5852-4352-94a0-0792462bc356@www.crosbyfuneralhome.com
DTSTAMP:20260423T235123Z
DTSTART:20260425T150000Z
DTEND:20260425T160000Z
SUMMARY:Funeral Service
DESCRIPTION:
URL:https://www.crosbyfuneralhome.com/obituaries/jack-turner-2026
LOCATION:Crosby Funeral Home 207 West 12th Street  Alma GA 31510
GEO:31.5417845;-82.4641906
END:VEVENT
END:VCALENDAR