BEGIN:VCALENDAR
VERSION:2.0
PRODID:-//Tukios.com/
BEGIN:VEVENT
UID:751629ba-cb4e-458d-a80e-faac33393fd8@www.crosbyfuneralhome.com
DTSTAMP:20260419T124807Z
DTSTART:20260419T220000Z
DTEND:20260420T000000Z
SUMMARY:Visitation
DESCRIPTION:
URL:https://www.crosbyfuneralhome.com/obituaries/magdalene-sears-2026
LOCATION: 207 W 12th St  Alma GA 31510
GEO:31.5418345;-82.4641463
END:VEVENT
END:VCALENDAR