BEGIN:VCALENDAR
VERSION:2.0
PRODID:-//Tukios.com/
BEGIN:VEVENT
UID:7fec5c7a-fc78-407a-a4a3-38e43b6a8a3f@www.crosbyfuneralhome.com
DTSTAMP:20260419T125022Z
DTSTART:20260420T200000Z
DTEND:20260420T210000Z
SUMMARY:Funeral Service
DESCRIPTION:
URL:https://www.crosbyfuneralhome.com/obituaries/magdalene-sears-2026
LOCATION: 264 Lees Chapel Road  Nicholls GA 31554
GEO:31.447074;-82.448793
END:VEVENT
END:VCALENDAR